BEGIN:VCALENDAR
VERSION:2.0
PRODID:-//Harrisburg Area Dental Society - ECPv6.15.20//NONSGML v1.0//EN
CALSCALE:GREGORIAN
METHOD:PUBLISH
X-WR-CALNAME:Harrisburg Area Dental Society
X-ORIGINAL-URL:https://hads.org
X-WR-CALDESC:Events for Harrisburg Area Dental Society
REFRESH-INTERVAL;VALUE=DURATION:PT1H
X-Robots-Tag:noindex
X-PUBLISHED-TTL:PT1H
BEGIN:VTIMEZONE
TZID:America/New_York
BEGIN:DAYLIGHT
TZOFFSETFROM:-0500
TZOFFSETTO:-0400
TZNAME:EDT
DTSTART:20240310T070000
END:DAYLIGHT
BEGIN:STANDARD
TZOFFSETFROM:-0400
TZOFFSETTO:-0500
TZNAME:EST
DTSTART:20241103T060000
END:STANDARD
BEGIN:DAYLIGHT
TZOFFSETFROM:-0500
TZOFFSETTO:-0400
TZNAME:EDT
DTSTART:20250309T070000
END:DAYLIGHT
BEGIN:STANDARD
TZOFFSETFROM:-0400
TZOFFSETTO:-0500
TZNAME:EST
DTSTART:20251102T060000
END:STANDARD
BEGIN:DAYLIGHT
TZOFFSETFROM:-0500
TZOFFSETTO:-0400
TZNAME:EDT
DTSTART:20260308T070000
END:DAYLIGHT
BEGIN:STANDARD
TZOFFSETFROM:-0400
TZOFFSETTO:-0500
TZNAME:EST
DTSTART:20261101T060000
END:STANDARD
BEGIN:DAYLIGHT
TZOFFSETFROM:-0500
TZOFFSETTO:-0400
TZNAME:EDT
DTSTART:20270314T070000
END:DAYLIGHT
BEGIN:STANDARD
TZOFFSETFROM:-0400
TZOFFSETTO:-0500
TZNAME:EST
DTSTART:20271107T060000
END:STANDARD
END:VTIMEZONE
BEGIN:VEVENT
DTSTART;TZID=America/New_York:20250221T080000
DTEND;TZID=America/New_York:20250221T150000
DTSTAMP:20260423T155002
CREATED:20250109T225437Z
LAST-MODIFIED:20250109T225437Z
UID:6031-1740124800-1740150000@hads.org
SUMMARY:Direct & Indirect Restorative Care - Dr. Ian Shuman
DESCRIPTION:
URL:https://hads.org/event/direct-indirect-restorative-care-dr-ian-shuman
LOCATION:Central Hotel/ Best Western\, 800 E. Park Drive\, Harrisburg\, PA\, United States
END:VEVENT
BEGIN:VEVENT
DTSTART;TZID=America/New_York:20250914T120000
DTEND;TZID=America/New_York:20250914T140000
DTSTAMP:20260423T155002
CREATED:20250819T151500Z
LAST-MODIFIED:20250819T151708Z
UID:6280-1757851200-1757858400@hads.org
SUMMARY:Ballpark BBQ
DESCRIPTION:
URL:https://hads.org/event/ballpark-bbq
LOCATION:City Island FNB Stadium
END:VEVENT
BEGIN:VEVENT
DTSTART;VALUE=DATE:20260417
DTEND;VALUE=DATE:20260419
DTSTAMP:20260423T155002
CREATED:20251111T004642Z
LAST-MODIFIED:20251111T004642Z
UID:6348-1776384000-1776556799@hads.org
SUMMARY:Pennsylvania's Dental Meeting - April 17-18\, 2026
DESCRIPTION:Save the Date: Pennsylvania’s Dental Meeting
URL:https://hads.org/event/pennsylvanias-dental-meeting-april-17-18-2026
LOCATION:Omni Bedford Springs Resort & Spa\, 2198 Sweet Root Road\, Bedford\, PA\, 15522
END:VEVENT
BEGIN:VEVENT
DTSTART;VALUE=DATE:20260529
DTEND;VALUE=DATE:20260531
DTSTAMP:20260423T155002
CREATED:20251111T005404Z
LAST-MODIFIED:20251111T005411Z
UID:6359-1780012800-1780185599@hads.org
SUMMARY:MOM-n-PA Dental Mission - May 29-30\, 2026
DESCRIPTION:
URL:https://hads.org/event/mom-n-pa-dental-mission-may-29-30-2026
LOCATION:Agri-Plex – Allentown Fairgrounds\, Allentown\, PA
END:VEVENT
BEGIN:VEVENT
DTSTART;VALUE=DATE:20260716
DTEND;VALUE=DATE:20260719
DTSTAMP:20260423T155002
CREATED:20251111T005051Z
LAST-MODIFIED:20251111T005051Z
UID:6354-1784160000-1784419199@hads.org
SUMMARY:Family Vacation Dental Conference - July 16-18\, 2026
DESCRIPTION:
URL:https://hads.org/event/family-vacation-dental-conference-july-16-18-2026
LOCATION:Hyatt Regency Chesapeake Bay Gold Resort\, Cambridge\, MD
END:VEVENT
END:VCALENDAR