BEGIN:VCALENDAR
VERSION:2.0
PRODID:-//Harrisburg Area Dental Society - ECPv6.15.20//NONSGML v1.0//EN
CALSCALE:GREGORIAN
METHOD:PUBLISH
X-WR-CALNAME:Harrisburg Area Dental Society
X-ORIGINAL-URL:https://hads.org
X-WR-CALDESC:Events for Harrisburg Area Dental Society
REFRESH-INTERVAL;VALUE=DURATION:PT1H
X-Robots-Tag:noindex
X-PUBLISHED-TTL:PT1H
BEGIN:VTIMEZONE
TZID:America/New_York
BEGIN:DAYLIGHT
TZOFFSETFROM:-0500
TZOFFSETTO:-0400
TZNAME:EDT
DTSTART:20250309T070000
END:DAYLIGHT
BEGIN:STANDARD
TZOFFSETFROM:-0400
TZOFFSETTO:-0500
TZNAME:EST
DTSTART:20251102T060000
END:STANDARD
BEGIN:DAYLIGHT
TZOFFSETFROM:-0500
TZOFFSETTO:-0400
TZNAME:EDT
DTSTART:20260308T070000
END:DAYLIGHT
BEGIN:STANDARD
TZOFFSETFROM:-0400
TZOFFSETTO:-0500
TZNAME:EST
DTSTART:20261101T060000
END:STANDARD
BEGIN:DAYLIGHT
TZOFFSETFROM:-0500
TZOFFSETTO:-0400
TZNAME:EDT
DTSTART:20270314T070000
END:DAYLIGHT
BEGIN:STANDARD
TZOFFSETFROM:-0400
TZOFFSETTO:-0500
TZNAME:EST
DTSTART:20271107T060000
END:STANDARD
END:VTIMEZONE
BEGIN:VEVENT
DTSTART;VALUE=DATE:20260529
DTEND;VALUE=DATE:20260531
DTSTAMP:20260423T191326
CREATED:20251111T005404Z
LAST-MODIFIED:20251111T005411Z
UID:6359-1780012800-1780185599@hads.org
SUMMARY:MOM-n-PA Dental Mission - May 29-30\, 2026
DESCRIPTION:
URL:https://hads.org/event/mom-n-pa-dental-mission-may-29-30-2026
LOCATION:Agri-Plex – Allentown Fairgrounds\, Allentown\, PA
END:VEVENT
BEGIN:VEVENT
DTSTART;VALUE=DATE:20260716
DTEND;VALUE=DATE:20260719
DTSTAMP:20260423T191326
CREATED:20251111T005051Z
LAST-MODIFIED:20251111T005051Z
UID:6354-1784160000-1784419199@hads.org
SUMMARY:Family Vacation Dental Conference - July 16-18\, 2026
DESCRIPTION:
URL:https://hads.org/event/family-vacation-dental-conference-july-16-18-2026
LOCATION:Hyatt Regency Chesapeake Bay Gold Resort\, Cambridge\, MD
END:VEVENT
END:VCALENDAR