BEGIN:VCALENDAR
VERSION:2.0
PRODID:-//Harrisburg Area Dental Society - ECPv6.15.20//NONSGML v1.0//EN
CALSCALE:GREGORIAN
METHOD:PUBLISH
X-WR-CALNAME:Harrisburg Area Dental Society
X-ORIGINAL-URL:https://hads.org
X-WR-CALDESC:Events for Harrisburg Area Dental Society
REFRESH-INTERVAL;VALUE=DURATION:PT1H
X-Robots-Tag:noindex
X-PUBLISHED-TTL:PT1H
BEGIN:VTIMEZONE
TZID:America/New_York
BEGIN:DAYLIGHT
TZOFFSETFROM:-0500
TZOFFSETTO:-0400
TZNAME:EDT
DTSTART:20250309T070000
END:DAYLIGHT
BEGIN:STANDARD
TZOFFSETFROM:-0400
TZOFFSETTO:-0500
TZNAME:EST
DTSTART:20251102T060000
END:STANDARD
BEGIN:DAYLIGHT
TZOFFSETFROM:-0500
TZOFFSETTO:-0400
TZNAME:EDT
DTSTART:20260308T070000
END:DAYLIGHT
BEGIN:STANDARD
TZOFFSETFROM:-0400
TZOFFSETTO:-0500
TZNAME:EST
DTSTART:20261101T060000
END:STANDARD
BEGIN:DAYLIGHT
TZOFFSETFROM:-0500
TZOFFSETTO:-0400
TZNAME:EDT
DTSTART:20270314T070000
END:DAYLIGHT
BEGIN:STANDARD
TZOFFSETFROM:-0400
TZOFFSETTO:-0500
TZNAME:EST
DTSTART:20271107T060000
END:STANDARD
END:VTIMEZONE
BEGIN:VEVENT
DTSTART;TZID=America/New_York:20260425T063550
DTEND;TZID=America/New_York:20260425T063550
DTSTAMP:20260425T063550
CREATED:20141215T221949Z
LAST-MODIFIED:20141215T221949Z
UID:827-1777098950-1777098950@hads.org
SUMMARY:When is Dental Pain not Dental? Is Occlusion a Source of Pain? When Occlusion Matters
DESCRIPTION:Presented by Dr. Barry Glassman\nSponsored by __________
URL:https://hads.org/event/dental-pain-dental-occlusion-source-pain-occlusion-matters
END:VEVENT
END:VCALENDAR