BEGIN:VCALENDAR
VERSION:2.0
PRODID:-//Harrisburg Area Dental Society - ECPv6.15.20//NONSGML v1.0//EN
CALSCALE:GREGORIAN
METHOD:PUBLISH
X-WR-CALNAME:Harrisburg Area Dental Society
X-ORIGINAL-URL:https://hads.org
X-WR-CALDESC:Events for Harrisburg Area Dental Society
REFRESH-INTERVAL;VALUE=DURATION:PT1H
X-Robots-Tag:noindex
X-PUBLISHED-TTL:PT1H
BEGIN:VTIMEZONE
TZID:America/New_York
BEGIN:DAYLIGHT
TZOFFSETFROM:-0500
TZOFFSETTO:-0400
TZNAME:EDT
DTSTART:20250309T070000
END:DAYLIGHT
BEGIN:STANDARD
TZOFFSETFROM:-0400
TZOFFSETTO:-0500
TZNAME:EST
DTSTART:20251102T060000
END:STANDARD
BEGIN:DAYLIGHT
TZOFFSETFROM:-0500
TZOFFSETTO:-0400
TZNAME:EDT
DTSTART:20260308T070000
END:DAYLIGHT
BEGIN:STANDARD
TZOFFSETFROM:-0400
TZOFFSETTO:-0500
TZNAME:EST
DTSTART:20261101T060000
END:STANDARD
BEGIN:DAYLIGHT
TZOFFSETFROM:-0500
TZOFFSETTO:-0400
TZNAME:EDT
DTSTART:20270314T070000
END:DAYLIGHT
BEGIN:STANDARD
TZOFFSETFROM:-0400
TZOFFSETTO:-0500
TZNAME:EST
DTSTART:20271107T060000
END:STANDARD
END:VTIMEZONE
BEGIN:VEVENT
DTSTART;TZID=America/New_York:20260424T042215
DTEND;TZID=America/New_York:20260424T042215
DTSTAMP:20260424T042215
CREATED:20141212T184611Z
LAST-MODIFIED:20150119T151827Z
UID:815-1777004535-1777004535@hads.org
SUMMARY:Periodontal Plastic Surgical Procedures for Gingival and Implant Esthetics
DESCRIPTION:Presented by Dr. Bobby Butler\nSponsored by Centric Bank \nOptimal esthetic results are dependent on multiple factors. Restorative issues such as shade\, form and function are not a success without esthetic gingival contours. This lecture will discuss gingival augmentation techniques for root\ncoverage and pontic sites. Current concepts with anterior esthetic crown lengthening will also be discussed. \nIt will show how crown lengthening or connective tissue grafting might be used in implant cases. Many concepts for predictable esthetic outcomes will be presented. Complications will also be discussed and how to deal with them. Treatment planning and sequencing of therapy will be stressed especially when treating complex cases involving multiple adjacent teeth. \nThe participants will learn: \n\nThe types of surgical procedures that can improve esthetic restorative results. They will be able to decide when crown lengthening\, root coverage or a combination of these procedures should be performed.\nHow to achieve esthetic results in implant cases and how altering gingival levels with adjacent teeth should be planned.\nThe steps that should be taken to preserve the existing alveolar and gingival levels with dental implants.\nDiscussion of Implant Comp
URL:https://hads.org/event/periodontal-plastic-surgical-procedures-gingival-implant-esthetics
END:VEVENT
BEGIN:VEVENT
DTSTART;TZID=America/New_York:20260424T042215
DTEND;TZID=America/New_York:20260424T042215
DTSTAMP:20260424T042215
CREATED:20141215T221949Z
LAST-MODIFIED:20141215T221949Z
UID:827-1777004535-1777004535@hads.org
SUMMARY:When is Dental Pain not Dental? Is Occlusion a Source of Pain? When Occlusion Matters
DESCRIPTION:Presented by Dr. Barry Glassman\nSponsored by __________
URL:https://hads.org/event/dental-pain-dental-occlusion-source-pain-occlusion-matters
END:VEVENT
END:VCALENDAR